BEGIN:VCALENDAR
VERSION:2.0
PRODID:-//The Berry Center - ECPv6.15.20//NONSGML v1.0//EN
CALSCALE:GREGORIAN
METHOD:PUBLISH
X-ORIGINAL-URL:https://berrycenter.org
X-WR-CALDESC:Events for The Berry Center
REFRESH-INTERVAL;VALUE=DURATION:PT1H
X-Robots-Tag:noindex
X-PUBLISHED-TTL:PT1H
BEGIN:VTIMEZONE
TZID:America/Halifax
BEGIN:DAYLIGHT
TZOFFSETFROM:-0400
TZOFFSETTO:-0300
TZNAME:ADT
DTSTART:20250309T060000
END:DAYLIGHT
BEGIN:STANDARD
TZOFFSETFROM:-0300
TZOFFSETTO:-0400
TZNAME:AST
DTSTART:20251102T050000
END:STANDARD
BEGIN:DAYLIGHT
TZOFFSETFROM:-0400
TZOFFSETTO:-0300
TZNAME:ADT
DTSTART:20260308T060000
END:DAYLIGHT
BEGIN:STANDARD
TZOFFSETFROM:-0300
TZOFFSETTO:-0400
TZNAME:AST
DTSTART:20261101T050000
END:STANDARD
BEGIN:DAYLIGHT
TZOFFSETFROM:-0400
TZOFFSETTO:-0300
TZNAME:ADT
DTSTART:20270314T060000
END:DAYLIGHT
BEGIN:STANDARD
TZOFFSETFROM:-0300
TZOFFSETTO:-0400
TZNAME:AST
DTSTART:20271107T050000
END:STANDARD
END:VTIMEZONE
BEGIN:VEVENT
DTSTART;TZID=America/Halifax:20260818T173000
DTEND;TZID=America/Halifax:20260818T190000
DTSTAMP:20260420T092408
CREATED:20260323T185839Z
LAST-MODIFIED:20260323T201239Z
UID:4262-1787074200-1787079600@berrycenter.org
SUMMARY:Reading in Place: Wendell Berry's Jayber Crow (Part 1 of 2)
DESCRIPTION:Tuesday\, August 18 | 5:30 – 7:00pm ET (Hybrid\, in-person at The Berry Center or Zoom options)\n\nSaturday\, August 22 10:00am – 3:00pm ET (In-person Humanities Field Day at The Berry Center Farm)\n\nGuided by Farm & Forest Institute Director Leah Bayens\, you’ll traipse through field and forest\, town and country\, connecting to the places represented in the novel and contemplating how lived experiences and stories kindle affection for people\, land and community. In this Reading in Place study\, participants will receive a reading guide filled with discussion questions\, supplemental resources (maps\, articles\, images\, et al.)\, and hands-on exercises–to be used while reading at home and while at The Berry Center Farm\, exploring the landscapes captured in Jayber Crow.\n\nCost: $75\n\nClick here to register for Jayber Crow
URL:https://berrycenter.org/event/reading-in-place-wendell-berrys-jayber-crow-part-1-of-2/
LOCATION:KY
ATTACH;FMTTYPE=image/jpeg:https://berrycenter.org/wp-content/uploads/2025/03/Jayber_Crow.jpg
END:VEVENT
BEGIN:VEVENT
DTSTART;TZID=America/Halifax:20260822T100000
DTEND;TZID=America/Halifax:20260822T150000
DTSTAMP:20260420T092408
CREATED:20260323T190044Z
LAST-MODIFIED:20260323T201244Z
UID:4264-1787392800-1787410800@berrycenter.org
SUMMARY:Reading in Place: Wendell Berry's Jayber Crow (Part 2 of 2)
DESCRIPTION:Tuesday\, August 18 | 5:30 – 7:00pm ET\nHybrid Discussion Session (in-person & Zoom options)\n\nSaturday\, August 22 10:00am – 3:00pm ET\nHumanities Field Day\, In-person at The Berry Center Farm\n\nGuided by Farm & Forest Institute Director Leah Bayens\, you’ll traipse through field and forest\, town and country\, connecting to the places represented in the novel and contemplating how lived experiences and stories kindle affection for people\, land and community. In this Reading in Place study\, participants will receive a reading guide filled with discussion questions\, supplemental resources (maps\, articles\, images\, et al.)\, and hands-on exercises–to be used while reading at home and while at The Berry Center Farm\, exploring the landscapes captured in Jayber Crow.\n\nCost: $75\n\nClick here to register for Jayber Crow
URL:https://berrycenter.org/event/reading-in-place-wendell-berrys-jayber-crow-part-1-of-2-2/
LOCATION:KY
ATTACH;FMTTYPE=image/jpeg:https://berrycenter.org/wp-content/uploads/2025/03/Jayber_Crow.jpg
END:VEVENT
END:VCALENDAR