BEGIN:VCALENDAR
VERSION:2.0
PRODID:-//The Berry Center - ECPv6.15.20//NONSGML v1.0//EN
CALSCALE:GREGORIAN
METHOD:PUBLISH
X-ORIGINAL-URL:https://berrycenter.org
X-WR-CALDESC:Events for The Berry Center
REFRESH-INTERVAL;VALUE=DURATION:PT1H
X-Robots-Tag:noindex
X-PUBLISHED-TTL:PT1H
BEGIN:VTIMEZONE
TZID:UTC
BEGIN:STANDARD
TZOFFSETFROM:+0000
TZOFFSETTO:+0000
TZNAME:UTC
DTSTART:20250101T000000
END:STANDARD
END:VTIMEZONE
BEGIN:VEVENT
DTSTART;VALUE=DATE:20260615
DTEND;VALUE=DATE:20260618
DTSTAMP:20260422T083036
CREATED:20260409T191151Z
LAST-MODIFIED:20260409T191151Z
UID:4294-1781481600-1781740799@berrycenter.org
SUMMARY:Forest Woodcraft Youth Workshop
DESCRIPTION:Forest Woodcraft Youth Workshop is an immersive 3-day class for youths ages 12-15. It is an introduction to the longstanding tradition of green woodworking: working wood fresh from the tree using simple hand tools. No electricity or big machines required– just some patience\, focus\, and creativity! \nOver the course of the workshop\, participants will learn: how to select trees responsibly\, fell them safely\, process them into manageable pieces\, read the grain\, and shape green wood into functional objects. Instruction focuses on the tools\, tool sharpening\, and many of the techniques used in green woodwork with an emphasis on safety\, efficiency\, and respect for the material. \n\nIf your youth likes building things\, spending the day outdoors\, and learning old-school skills that still feel cool today\, green woodworking might be their next favorite adventure! \n\nFor full workshop description\, details\, and registration\, https://www.berrycenterfarmandforest.org/youthprogramming\n\nJune 15 – 17\, Monday\, Tuesday\, and Wednesday\n8:30am – 5:15pm ET each day \nCost: $200 for 1 youth\n$150 each for 2 youths per household\n$125 each for 3 or more youths per household \n 
URL:https://berrycenter.org/event/forest-woodcraft-youth-workshop/
LOCATION:KY
ATTACH;FMTTYPE=image/jpeg:https://berrycenter.org/wp-content/uploads/2026/04/IMG_7840_Optimized.jpg
END:VEVENT
END:VCALENDAR